BEGIN:VCALENDAR
VERSION:2.0
PRODID:-//Bratislavské dobrovoľnícke centrum - ECPv6.15.20//NONSGML v1.0//EN
CALSCALE:GREGORIAN
METHOD:PUBLISH
X-WR-CALNAME:Bratislavské dobrovoľnícke centrum
X-ORIGINAL-URL:https://dobrovolnictvoba.sk
X-WR-CALDESC:Udalosti pre Bratislavské dobrovoľnícke centrum
REFRESH-INTERVAL;VALUE=DURATION:PT1H
X-Robots-Tag:noindex
X-PUBLISHED-TTL:PT1H
BEGIN:VTIMEZONE
TZID:Europe/Bratislava
BEGIN:DAYLIGHT
TZOFFSETFROM:+0100
TZOFFSETTO:+0200
TZNAME:CEST
DTSTART:20230326T010000
END:DAYLIGHT
BEGIN:STANDARD
TZOFFSETFROM:+0200
TZOFFSETTO:+0100
TZNAME:CET
DTSTART:20231029T010000
END:STANDARD
BEGIN:DAYLIGHT
TZOFFSETFROM:+0100
TZOFFSETTO:+0200
TZNAME:CEST
DTSTART:20240331T010000
END:DAYLIGHT
BEGIN:STANDARD
TZOFFSETFROM:+0200
TZOFFSETTO:+0100
TZNAME:CET
DTSTART:20241027T010000
END:STANDARD
BEGIN:DAYLIGHT
TZOFFSETFROM:+0100
TZOFFSETTO:+0200
TZNAME:CEST
DTSTART:20250330T010000
END:DAYLIGHT
BEGIN:STANDARD
TZOFFSETFROM:+0200
TZOFFSETTO:+0100
TZNAME:CET
DTSTART:20251026T010000
END:STANDARD
END:VTIMEZONE
BEGIN:VEVENT
DTSTART;TZID=Europe/Bratislava:20241202T190000
DTEND;TZID=Europe/Bratislava:20241202T210000
DTSTAMP:20260421T193248
CREATED:20241111T125525Z
LAST-MODIFIED:20241111T125526Z
UID:1828-1733166000-1733173200@dobrovolnictvoba.sk
SUMMARY:Oceňovanie dobrovoľníkov v Starej tržnici
DESCRIPTION:Aj tento rok oslávime dobrovoľníctvo vo veľkom štýle v historickej Starej tržnici 2. decembra o 19:00. Okrem pozvaných dobrovoľníčok a dobrovoľníkov máme miesto aj pre Vás! Hlavným hudobným hosťom bude Emma Drobná. Nenecháme Vás hladných ani smädných a sľubujeme\, že spoznáte nezabudnuteľné ľudské príbehy\, ktoré spája pomoc ľuďom\, zvieratám alebo prírode.
URL:https://dobrovolnictvoba.sk/udalost/ocenovanie-dobrovolnikov-v-starej-trznici/
ATTACH;FMTTYPE=image/jpeg:https://dobrovolnictvoba.sk/wp-content/uploads/sites/6/2024/11/Emma_Drobna_-_Taste__zWkYhsA.jpg
END:VEVENT
BEGIN:VEVENT
DTSTART;TZID=Europe/Bratislava:20241126T130000
DTEND;TZID=Europe/Bratislava:20241126T160000
DTSTAMP:20260421T193248
CREATED:20241111T131146Z
LAST-MODIFIED:20241111T131242Z
UID:1838-1732626000-1732636800@dobrovolnictvoba.sk
SUMMARY:Workshop: Motivácia\, komunikácia a udržanie dobrovoľníkov
DESCRIPTION:Workshop pre koordinátorov dobrovoľníkov s praktickými vedomosťami a zručnosťami spíkrov z praxe 26. novembra v čase 13:00 - 16:00 v Centre Hub v Petržalke.
URL:https://dobrovolnictvoba.sk/udalost/workshop-motivacia-komunikacia-a-udrzanie-dobrovolnikov/
ATTACH;FMTTYPE=image/jpeg:https://dobrovolnictvoba.sk/wp-content/uploads/sites/6/2024/08/certifikacia.jpg
END:VEVENT
BEGIN:VEVENT
DTSTART;TZID=Europe/Bratislava:20241121T170000
DTEND;TZID=Europe/Bratislava:20241121T183000
DTSTAMP:20260421T193248
CREATED:20241111T130310Z
LAST-MODIFIED:20241111T130311Z
UID:1831-1732208400-1732213800@dobrovolnictvoba.sk
SUMMARY:Predvianočná Zoznamka s dobrovoľníctvom
DESCRIPTION:Predvianočné dobrovoľníctvo má nezameniteľné čaro! Ak sa už dlhšie pohrávate s myšlienkou vyskúšať pomôcť niekomu\, kto to potrebuje\, poďte do toho práve pred Vianocami. \n\n\n\nPríďte na Zoznamku s dobrovoľníctvom 21. novembra o 17:00 do kaviarne Bodega na Nedbalovej 10 a vyberieme pre Vás dobrovoľnícku ponuku na mieru! Počet miest je limitovaný. 
URL:https://dobrovolnictvoba.sk/udalost/predvianocna-zoznamka-s-dobrovolnictvom/
ATTACH;FMTTYPE=image/jpeg:https://dobrovolnictvoba.sk/wp-content/uploads/sites/6/2024/11/2december2022_Medovniky_8920153.jpg
END:VEVENT
BEGIN:VEVENT
DTSTART;TZID=Europe/Bratislava:20241120T180000
DTEND;TZID=Europe/Bratislava:20241120T190000
DTSTAMP:20260421T193248
CREATED:20241111T130613Z
LAST-MODIFIED:20241111T130614Z
UID:1836-1732125600-1732129200@dobrovolnictvoba.sk
SUMMARY:Workshop zahraničného dobrovoľníka
DESCRIPTION:Zažite cirkus ešte pred Vianocami! Naučíte sa cirkusové techniky aj spôsob\, ako ich využiť v spoločnost.   Stretneme sa v Centre HUB v Petržalke. Workshop je bezplatný a bude vedený v anglickom jazyku.
URL:https://dobrovolnictvoba.sk/udalost/workshop-zahranicneho-dobrovolnika/
ATTACH;FMTTYPE=image/jpeg:https://dobrovolnictvoba.sk/wp-content/uploads/sites/6/2024/11/345617472_259251796575844_2256961533484833621_n.jpg
END:VEVENT
BEGIN:VEVENT
DTSTART;TZID=Europe/Bratislava:20241018T230000
DTEND;TZID=Europe/Bratislava:20241018T230000
DTSTAMP:20260421T193248
CREATED:20240924T124512Z
LAST-MODIFIED:20240924T124514Z
UID:1546-1729292400-1729292400@dobrovolnictvoba.sk
SUMMARY:Nominácie na Srdce na dlani 2024
DESCRIPTION:Máte vo svojom okolí výnimočné dobrovoľnícke príbehy\, projekty alebo koordinátorov\, ktorí si zaslúžia\, aby sa ich pozitívne myslenie šírilo ďalej? Nominujte ich na Srdce na dlani - ocenenie za mimoriadny prínos v oblasti dobrovoľníctva do 18. októbra. Nominačné hárky nájdete v odkaze nižšie. Ďakujeme!
URL:https://dobrovolnictvoba.sk/udalost/nominacie-na-srdce-na-dlani-2024/
ATTACH;FMTTYPE=image/jpeg:https://dobrovolnictvoba.sk/wp-content/uploads/sites/6/2024/09/ocenovanie.jpg
END:VEVENT
BEGIN:VEVENT
DTSTART;TZID=Europe/Bratislava:20241017T170000
DTEND;TZID=Europe/Bratislava:20241017T190000
DTSTAMP:20260421T193248
CREATED:20240924T123617Z
LAST-MODIFIED:20240924T123619Z
UID:1544-1729184400-1729191600@dobrovolnictvoba.sk
SUMMARY:Zoznamka s dobrovoľníctvom
DESCRIPTION:Láka Vás dobrovoľníctvo\, ale neviete ako začať? Príďte na Zoznamku s dobrovoľníctvom. Povieme Vám ako fungujú neziskové organizácie\, čo je dobrovoľníctvo aj komu sa oplatí pomôcť:) Vidíme sa 17. októbra o 17:00 v zasadačke Primaciálneho paláca.
URL:https://dobrovolnictvoba.sk/udalost/zoznamka-s-dobrovolnictvom-2/
ATTACH;FMTTYPE=image/jpeg:https://dobrovolnictvoba.sk/wp-content/uploads/sites/6/2024/09/1.jpg
END:VEVENT
BEGIN:VEVENT
DTSTART;TZID=Europe/Bratislava:20241016T090000
DTEND;TZID=Europe/Bratislava:20241016T190000
DTSTAMP:20260421T193248
CREATED:20240924T125823Z
LAST-MODIFIED:20240924T125825Z
UID:1550-1729069200-1729105200@dobrovolnictvoba.sk
SUMMARY:Kariére Expo Stará tržnica
DESCRIPTION:Hľadáte si prácu? Pred každou pracovnou príležitosťou odporúčame skúsiť dobrovoľnícku. Získate nové zručnosti\, skúsenosti\, spoznáte nových ľudí a bude machri na to\, ako funguje svet nezisku. Neveríte? Zastavte sa u nás 16. októbra na Kariéra Expo v Starej tržnici.
URL:https://dobrovolnictvoba.sk/udalost/kariere-expo-stara-trznica/
ATTACH;FMTTYPE=image/png:https://dobrovolnictvoba.sk/wp-content/uploads/sites/6/2024/09/kariera_web_logo.png
END:VEVENT
BEGIN:VEVENT
DTSTART;TZID=Europe/Bratislava:20240926T173000
DTEND;TZID=Europe/Bratislava:20240926T190000
DTSTAMP:20260421T193248
CREATED:20240924T122653Z
LAST-MODIFIED:20240924T123256Z
UID:1533-1727371800-1727377200@dobrovolnictvoba.sk
SUMMARY:Nábor dobrovoľníkov - doučovateľov detí
DESCRIPTION:V programe Som tu pre teba hľadáme ochotných dobrovoľníkov a dobrovoľníčky na dlhodobé doučovanie detí s nedostatkom príležitostí. Ak máte viac ako 21 rokov a čas 2 hodiny týždenne\, venujte ich deťom zo sociálne znevýhodneného prostredia. Príďte na nábor 26. septembra o 17:30 do zasadačky  Primaciálneho paláca.
URL:https://dobrovolnictvoba.sk/udalost/nabor-dobrovolnikov-doucovatelov-deti/
ATTACH;FMTTYPE=image/webp:https://dobrovolnictvoba.sk/wp-content/uploads/sites/6/2024/09/doucovanie1.webp
END:VEVENT
BEGIN:VEVENT
DTSTART;TZID=Europe/Bratislava:20240919T000000
DTEND;TZID=Europe/Bratislava:20240920T235900
DTSTAMP:20260421T193248
CREATED:20240811T090107Z
LAST-MODIFIED:20240924T122800Z
UID:890-1726704000-1726876740@dobrovolnictvoba.sk
SUMMARY:Zelene dni 2024
DESCRIPTION:Hľadáte pre seba\, svojich priateľov alebo kolegov výnimočné miesto\, kde by ste sa po letných horúčavách schladili? Poďte do lesa\, chránených území\, záhrad a objavte skryté zelené poklady hlavného mesta! Tretí septembrový štvrtok a piatok chystáme pre dobrovoľníkov Zelené dni. Našimi najdôležitejšími úlohami bude: vyzbierať čierne skládky\, vysadiť nové stromy\, zrevitalizovať záhrady\, odstrániť nálety aj natrieť hracie prvky pre deti. Zelené dni budú 19.-20. septembra\, pridajte sa k nám a zanechajte stopu vo Vašom meste! \nPresný program Zelených dní zverejníme už čoskoro! \nV prípade otázok nás neváhajte kontaktovať na ahoj@dobrovolnictvoba.sk
URL:https://dobrovolnictvoba.sk/udalost/zelene-dni-2024/
LOCATION:Zelene dni 2024
ATTACH;FMTTYPE=image/webp:https://dobrovolnictvoba.sk/wp-content/uploads/sites/6/2023/09/csm_zelene_dni_845x463px_6a09289694.webp
END:VEVENT
BEGIN:VEVENT
DTSTART;TZID=Europe/Bratislava:20240915T150000
DTEND;TZID=Europe/Bratislava:20240915T150000
DTSTAMP:20260421T193248
CREATED:20240910T081746Z
LAST-MODIFIED:20240910T081747Z
UID:1425-1726412400-1726412400@dobrovolnictvoba.sk
SUMMARY:Akreditácia v oblasti dobrovoľníckych činností - deadline
DESCRIPTION:Získajte štátne overenie vašej schopnosti zabezpečiť dobrovoľnícku činnosť v organizácii na 4 roky od Ministerstva vnútra. Elektronický formulár nájdete tu: https://dobrovolnictvoba.sk/akreditacia-v-oblasti-dobrovolnickych-cinnosti-je-spustena/
URL:https://dobrovolnictvoba.sk/udalost/akreditacia-v-oblasti-dobrovolnickych-cinnosti-deadline/
END:VEVENT
BEGIN:VEVENT
DTSTART;TZID=Europe/Bratislava:20240911T170000
DTEND;TZID=Europe/Bratislava:20240911T183000
DTSTAMP:20260421T193248
CREATED:20240910T081220Z
LAST-MODIFIED:20240910T081222Z
UID:1423-1726074000-1726079400@dobrovolnictvoba.sk
SUMMARY:Zoznamka s dobrovoľníctvom
DESCRIPTION:Pomáhanie nič nestojí ale je dobré vedieť\, ako začať! 19.- 20. septembra organizujeme Zelené dni - aj tie môžu odštartovať Vašu novú dobrovoľnícku etapu. Príďte na Zoznamku s dobrovoľníctvom 11. septembra o 17:00 do zasadačky  na prízemí v Primaciálnom paláci a my Vám nájdeme ponuku na mieru\, povieme Vám čo dobrovoľníctvom získate aj komu sa oplatí pomáhať.
URL:https://dobrovolnictvoba.sk/udalost/zoznamka-s-dobrovolnictvom/
END:VEVENT
END:VCALENDAR